BEGIN:VCALENDAR
VERSION:2.0
PRODID:-//RSVP Sanjose - ECPv6.15.16//NONSGML v1.0//EN
CALSCALE:GREGORIAN
METHOD:PUBLISH
X-WR-CALNAME:RSVP Sanjose
X-ORIGINAL-URL:https://rsvpsanjose.org
X-WR-CALDESC:Events for RSVP Sanjose
REFRESH-INTERVAL;VALUE=DURATION:PT1H
X-Robots-Tag:noindex
X-PUBLISHED-TTL:PT1H
BEGIN:VTIMEZONE
TZID:America/Los_Angeles
BEGIN:DAYLIGHT
TZOFFSETFROM:-0800
TZOFFSETTO:-0700
TZNAME:PDT
DTSTART:20210314T100000
END:DAYLIGHT
BEGIN:STANDARD
TZOFFSETFROM:-0700
TZOFFSETTO:-0800
TZNAME:PST
DTSTART:20211107T090000
END:STANDARD
BEGIN:DAYLIGHT
TZOFFSETFROM:-0800
TZOFFSETTO:-0700
TZNAME:PDT
DTSTART:20220313T100000
END:DAYLIGHT
BEGIN:STANDARD
TZOFFSETFROM:-0700
TZOFFSETTO:-0800
TZNAME:PST
DTSTART:20221106T090000
END:STANDARD
BEGIN:DAYLIGHT
TZOFFSETFROM:-0800
TZOFFSETTO:-0700
TZNAME:PDT
DTSTART:20230312T100000
END:DAYLIGHT
BEGIN:STANDARD
TZOFFSETFROM:-0700
TZOFFSETTO:-0800
TZNAME:PST
DTSTART:20231105T090000
END:STANDARD
END:VTIMEZONE
BEGIN:VEVENT
DTSTART;TZID=America/Los_Angeles:20221102T180000
DTEND;TZID=America/Los_Angeles:20221102T200000
DTSTAMP:20260420T204133
CREATED:20221026T162038Z
LAST-MODIFIED:20221026T162123Z
UID:2133-1667412000-1667419200@rsvpsanjose.org
SUMMARY:Vive La Expericia Dia de Muertos Celebration
DESCRIPTION:Join us to celebrate this beautiful tradition to honor and remember our dedicated loved ones. We will be offering tamales\, beverages\, and day of the dead bread. \n \nJust a reminder to please RSVP for our Day of the Dead Celebration by October 30th\, RSVP now!  \nWe look forward to celebrating the Day of the Dead with all our students on Wednesday\, November 2nd\, 6:00pm-8:00pm at our office in Campbell. This event is for students and their families.
URL:https://rsvpsanjose.org/event/vive-la-expericia-dia-de-muertos-celebration/
LOCATION:155 E. Campbell Ave\, 155 E Campbell Ave\, Campbell\, CA\, 95008\, United States
END:VEVENT
END:VCALENDAR