BEGIN:VCALENDAR
VERSION:2.0
PRODID:-//RSVP Sanjose - ECPv6.15.16//NONSGML v1.0//EN
CALSCALE:GREGORIAN
METHOD:PUBLISH
X-WR-CALNAME:RSVP Sanjose
X-ORIGINAL-URL:https://rsvpsanjose.org
X-WR-CALDESC:Events for RSVP Sanjose
REFRESH-INTERVAL;VALUE=DURATION:PT1H
X-Robots-Tag:noindex
X-PUBLISHED-TTL:PT1H
BEGIN:VTIMEZONE
TZID:America/Los_Angeles
BEGIN:DAYLIGHT
TZOFFSETFROM:-0800
TZOFFSETTO:-0700
TZNAME:PDT
DTSTART:20220313T100000
END:DAYLIGHT
BEGIN:STANDARD
TZOFFSETFROM:-0700
TZOFFSETTO:-0800
TZNAME:PST
DTSTART:20221106T090000
END:STANDARD
BEGIN:DAYLIGHT
TZOFFSETFROM:-0800
TZOFFSETTO:-0700
TZNAME:PDT
DTSTART:20230312T100000
END:DAYLIGHT
BEGIN:STANDARD
TZOFFSETFROM:-0700
TZOFFSETTO:-0800
TZNAME:PST
DTSTART:20231105T090000
END:STANDARD
BEGIN:DAYLIGHT
TZOFFSETFROM:-0800
TZOFFSETTO:-0700
TZNAME:PDT
DTSTART:20240310T100000
END:DAYLIGHT
BEGIN:STANDARD
TZOFFSETFROM:-0700
TZOFFSETTO:-0800
TZNAME:PST
DTSTART:20241103T090000
END:STANDARD
END:VTIMEZONE
BEGIN:VEVENT
DTSTART;TZID=America/Los_Angeles:20230913T170000
DTEND;TZID=America/Los_Angeles:20230913T200000
DTSTAMP:20260420T040813
CREATED:20230810T183144Z
LAST-MODIFIED:20230810T183435Z
UID:2191-1694624400-1694635200@rsvpsanjose.org
SUMMARY:Mexican Independence Day Celebracion
DESCRIPTION:Register Today
URL:https://rsvpsanjose.org/event/mexican-independence-day-celebracion/
LOCATION:Future Flooring Group\, 1001 South 5th Street\, San Jose\, CA\, 95112\, United States
ORGANIZER;CN="Joel Velasquez":MAILTO:joelivelasquez@gmail.com
END:VEVENT
END:VCALENDAR