BEGIN:VCALENDAR
VERSION:2.0
PRODID:-//RSVP Sanjose - ECPv6.15.16//NONSGML v1.0//EN
CALSCALE:GREGORIAN
METHOD:PUBLISH
X-WR-CALNAME:RSVP Sanjose
X-ORIGINAL-URL:https://rsvpsanjose.org
X-WR-CALDESC:Events for RSVP Sanjose
REFRESH-INTERVAL;VALUE=DURATION:PT1H
X-Robots-Tag:noindex
X-PUBLISHED-TTL:PT1H
BEGIN:VTIMEZONE
TZID:America/Los_Angeles
BEGIN:DAYLIGHT
TZOFFSETFROM:-0800
TZOFFSETTO:-0700
TZNAME:PDT
DTSTART:20210314T100000
END:DAYLIGHT
BEGIN:STANDARD
TZOFFSETFROM:-0700
TZOFFSETTO:-0800
TZNAME:PST
DTSTART:20211107T090000
END:STANDARD
BEGIN:DAYLIGHT
TZOFFSETFROM:-0800
TZOFFSETTO:-0700
TZNAME:PDT
DTSTART:20220313T100000
END:DAYLIGHT
BEGIN:STANDARD
TZOFFSETFROM:-0700
TZOFFSETTO:-0800
TZNAME:PST
DTSTART:20221106T090000
END:STANDARD
BEGIN:DAYLIGHT
TZOFFSETFROM:-0800
TZOFFSETTO:-0700
TZNAME:PDT
DTSTART:20230312T100000
END:DAYLIGHT
BEGIN:STANDARD
TZOFFSETFROM:-0700
TZOFFSETTO:-0800
TZNAME:PST
DTSTART:20231105T090000
END:STANDARD
END:VTIMEZONE
BEGIN:VEVENT
DTSTART;TZID=America/Los_Angeles:20220630T190000
DTEND;TZID=America/Los_Angeles:20220804T200000
DTSTAMP:20260420T235226
CREATED:20220621T164031Z
LAST-MODIFIED:20220621T165211Z
UID:2107-1656615600-1659643200@rsvpsanjose.org
SUMMARY:Adult Conversational Spanish Course 1
DESCRIPTION:6-WEEK COURSE STARTING THURSDAY JUNE 30th\nDay: Every Thursday 6/30 – 8/4\nTime: 7:00-8:00pm\nTotal Cost: $195\n Location: 155 E. Campbell Ave. Campbell\, Ca\n\n\n\n\n			\n				Register Here
URL:https://rsvpsanjose.org/event/adult-conversational-spanish-course-1/
LOCATION:155 E. Campbell Ave\, 155 E Campbell Ave\, Campbell\, CA\, 95008\, United States
ORGANIZER;CN="Vive La Experiencia - Spanish & ESL Institute":MAILTO:viveexperiencia@gmail.com
END:VEVENT
BEGIN:VEVENT
DTSTART;TZID=America/Los_Angeles:20220706T180000
DTEND;TZID=America/Los_Angeles:20220907T210000
DTSTAMP:20260420T235226
CREATED:20220620T212711Z
LAST-MODIFIED:20220620T213357Z
UID:2042-1657130400-1662584400@rsvpsanjose.org
SUMMARY:Think and Grow Big Business Academy
DESCRIPTION:10-WEEK VIRTUAL SMALL BUSINESS EXPANSION PROGRAM\nEvery Wednesday from July 6th – September 7th\, 2022\nThe Think and Grow BIG: Business Academy assists small business owners in building and expanding their business to greater success and strengthening their communities. This 10-week virtual innovative small business program includes one-on-one consulting —providing small businesses the opportunity to work with experienced professionals at no financial cost. \nThink and Grow BIG: Business Academy training is specifically designed to foster growth and facilitate the expansion of your business. Participants will have the opportunity to work with a network of experienced subject matter experts in core business topics\, in addition to micro-sessions customized for your small business unique needs. \n			\n				Register Today
URL:https://rsvpsanjose.org/event/think-and-grow-big-business-academy/
LOCATION:Virtual Webinar
END:VEVENT
BEGIN:VEVENT
DTSTART;VALUE=DATE:20220809
DTEND;VALUE=DATE:20220814
DTSTAMP:20260420T235226
CREATED:20220602T225408Z
LAST-MODIFIED:20220602T165227Z
UID:1997-1660064400-1660409999@rsvpsanjose.org
SUMMARY:43rd Annual Statewide Convention
DESCRIPTION:The CHCC’s Annual Statewide Convention is the largest networking venue for Hispanic businesses in the western region.For forty years\, the CHCC has served as a leading regional Hispanic business organization in the United States\, working to bring the interests of the more than 815\,000 California Hispanic-owned businesses to the forefront of both California and national economic agendas. \n\n2022 Sponsorship Opportunities\nThis year’s convention will bring over an estimated 1500 participants representing: diverse small businesses\, corporate executives\, and government representatives—business and community leaders. Convention programs will feature an array of business development\, assistance programs\, community and economic development programs specifically designed for community\nowners and business leaders.\nSponsorship of the CHCC 43rd Annual Statewide Convention provides a platform for your company to create impact in the small business\, Hispanic\, and diverse communities. Sponsorship offers you the following opportunities:\n\nGet in front of your target market\nCreate brand awareness & exposure\nIncrease your reach and exposure in small business and diverse communitiesCultivate customer relationship\nCollect high-quality sales leads\nConnect with diverse suppliers\nFulfill your company’s commitment to diversity\nGreater ROI than other advertising methods\nProvide education on business development\n\n\n			\n			\n				\n				\n				\n				\n				\n				\n				\n				\n				\n				\n			\n			\n				\n				\n				\n				\n			\n				\n				\n				\n				\n				\n				\n				Event Site\n			\n			\n				\n				\n				\n				\n				\n				Register Now\n			\n			\n				\n				\n				\n				\n				\n				Event Brochure
URL:https://rsvpsanjose.org/event/43rd-annual-statewide-convention/
LOCATION:Oakland Marriott City Center\, 1001 Broadway\, Oakland\, CA\, 94607\, United States
END:VEVENT
END:VCALENDAR